BEGIN:VCALENDAR
VERSION:2.0
PRODID:-//PYVOBJECT//NONSGML Version 0.9.9//EN
X-WR-TIMEZONE:Africa/Johannesburg
BEGIN:VTIMEZONE
TZID:Africa/Johannesburg
BEGIN:STANDARD
DTSTART:20000101T000000
RRULE:FREQ=YEARLY;BYMONTH=1
TZNAME:SAST
TZOFFSETFROM:+0200
TZOFFSETTO:+0200
END:STANDARD
END:VTIMEZONE
BEGIN:VEVENT
UID:20260423T120720Z - 74700@eos-content
DTSTART;TZID=Africa/Johannesburg:20260426T150000
DTEND;TZID=Africa/Johannesburg:20260426T170000
ATTENDEE:MAILTO:maryann.h@harcourts.co.za
ATTENDEE:MAILTO:brenda.l@harcourts.co.za
DESCRIPTION:https://www.harcourtsdunn.co.za/results/residential/for-sale/bl
 ouberg/flamingo-vlei/house/3123965/3-harrier-street/\n\n3 Harrier Street\,
  Flamingo Vlei\n\nMary Ann Harrop (072 356 4408)\n\nBrenda Loader (0729548
 462)
DTSTAMP:20260423T120720Z
LOCATION:3 Harrier Street\, Flamingo Vlei\, Blouberg
SUMMARY:Harcourts South Africa Show Day - RL62203
END:VEVENT
END:VCALENDAR
